BEGIN:VCALENDAR
VERSION:2.0
PRODID:-//All Stage Canine Development - ECPv6.15.20//NONSGML v1.0//EN
CALSCALE:GREGORIAN
METHOD:PUBLISH
X-ORIGINAL-URL:https://www.allstagecaninedevelopment.com
X-WR-CALDESC:Events for All Stage Canine Development
REFRESH-INTERVAL;VALUE=DURATION:PT1H
X-Robots-Tag:noindex
X-PUBLISHED-TTL:PT1H
BEGIN:VTIMEZONE
TZID:America/Los_Angeles
BEGIN:DAYLIGHT
TZOFFSETFROM:-0800
TZOFFSETTO:-0700
TZNAME:PDT
DTSTART:20250309T100000
END:DAYLIGHT
BEGIN:STANDARD
TZOFFSETFROM:-0700
TZOFFSETTO:-0800
TZNAME:PST
DTSTART:20251102T090000
END:STANDARD
BEGIN:DAYLIGHT
TZOFFSETFROM:-0800
TZOFFSETTO:-0700
TZNAME:PDT
DTSTART:20260308T100000
END:DAYLIGHT
BEGIN:STANDARD
TZOFFSETFROM:-0700
TZOFFSETTO:-0800
TZNAME:PST
DTSTART:20261101T090000
END:STANDARD
BEGIN:DAYLIGHT
TZOFFSETFROM:-0800
TZOFFSETTO:-0700
TZNAME:PDT
DTSTART:20270314T100000
END:DAYLIGHT
BEGIN:STANDARD
TZOFFSETFROM:-0700
TZOFFSETTO:-0800
TZNAME:PST
DTSTART:20271107T090000
END:STANDARD
END:VTIMEZONE
BEGIN:VEVENT
DTSTART;TZID=America/Los_Angeles:20260629T170000
DTEND;TZID=America/Los_Angeles:20260629T170000
DTSTAMP:20260420T215603
CREATED:20260420T204535Z
LAST-MODIFIED:20260420T204535Z
UID:6734-1782752400-1782752400@www.allstagecaninedevelopment.com
SUMMARY:Intermediate Training Class Start Date
DESCRIPTION:Our Intermediate Class builds upon the foundation established in our Basic Class\, helping you and your dog advance your skills and confidence together. \nClass Length: Six Consecutive One-Hour Classes \n*Evaluation and Sign Up Required*
URL:https://www.allstagecaninedevelopment.com/calendar/intermediate-training-class-start-date-40/
LOCATION:All Stage Canine Development\, 5948 Auburn Blvd Suite F Citrus Heights\, CA 95621
END:VEVENT
BEGIN:VEVENT
DTSTART;TZID=America/Los_Angeles:20260630T160000
DTEND;TZID=America/Los_Angeles:20260630T160000
DTSTAMP:20260420T215603
CREATED:20260420T204150Z
LAST-MODIFIED:20260420T204150Z
UID:6730-1782835200-1782835200@www.allstagecaninedevelopment.com
SUMMARY:Basic Training Class Start Date
DESCRIPTION:Our Basic Obedience Class provides a strong foundational training and is a crucial first step toward achieving your training goals. \nClass Length: Six Consecutive One-Hour Classes \n*Evaluation and Sign Up Required*
URL:https://www.allstagecaninedevelopment.com/calendar/basic-training-class-start-date-39/
LOCATION:All Stage Canine Development\, 5948 Auburn Blvd Suite F Citrus Heights\, CA 95621
END:VEVENT
END:VCALENDAR